Workbook

Sheet Table 1
A1: 附件1
A2: 国家组织药品第三批集中带量采购续约供应清单
A3: 序号 | B3: 药品通用名 | C3: 剂型 | D3: 规格包装 | E3: 计价单位 | F3: 包装方式 | G3: 生产企业 | H3: 中选价格 （元）
A4: 1 | B4: 阿那曲唑片 | C4: 片剂 | D4: 1mg*14片/盒 | E4: 盒 | F4: 聚氯乙烯固体药用硬片，药用铝箔包装 | G4: 重庆华邦制药有限公司 | H4: 39.58
A5: 2 | B5: 阿哌沙班片 | C5: 片剂 | D5: 2.5mg*14片/板*2板/盒 | E5: 盒 | F5: 铝塑包装 | G5: 江苏豪森药业集团有限公司 | H5: 79.33
B6: 阿哌沙班片 | C6: 片剂 | D6: 2.5mg*14片/板*1板/盒 | E6: 盒 | F6: 铝塑包装 | G6: 江苏豪森药业集团有限公司 | H6: 40.68
A7: 3 | B7: 硫酸氨基葡萄糖胶囊 | C7: 胶囊剂 | D7: 0.25g*12粒/板*2板/盒 | E7: 盒 | F7: 铝塑包装 | G7: 浙江海正药业股份有限公司 | H7: 9.18
A8: 4 | B8: 盐酸氨溴索胶囊 | C8: 胶囊剂 | D8: 30mg*10粒/板*3板/盒 | E8: 盒 | F8: 聚氯乙烯固体药用硬片和药用铝箔 | G8: 上海信谊天平药业有限公司 | H8: 3.84
A9: 5 | B9: 奥氮平口崩片 | C9: 片剂 | D9: 5mg*28片/盒 | E9: 盒 | F9: 软双铝 | G9: 浙江华海药业股份有限公司 | H9: 22.12
A10: 6 | B10: 布洛芬缓释胶囊 | C10: 胶囊剂（缓释） | D10: 0.3g*每板10粒，每盒3板 | E10: 盒 | F10: 药品包装用铝箔/聚氯乙烯固体药用硬片泡罩 | G10: 珠海润都制药股份有限公司 | H10: 5.99
B11: 布洛芬缓释胶囊 | C11: 胶囊剂（缓释） | D11: 0.3g*每板10粒，每盒2板 | E11: 盒 | F11: 药品包装用铝箔/聚氯乙烯固体药用硬片泡罩 | G11: 珠海润都制药股份有限公司 | H11: 4.05
A12: 7 | B12: 布洛芬颗粒 | C12: 颗粒剂 | D12: 0.2g*8袋/盒 | E12: 盒 | F12: 药用复合膜袋包装 | G12: 黑龙江诺捷制药有限责任公司 | H12: 1.04
A13: 8 | B13: 多潘立酮片 | C13: 片剂 | D13: 10mg*30片/板*1板/盒 | E13: 盒 | F13: 铝塑包装，包材组成为聚氯乙烯固体药用硬片/药品包装用铝箔 | G13: 华东医药（西安）博华制药有限公司 | H13: 4.77
A14: 9 | B14: 盐酸二甲双胍缓释片 | C14: 缓释片 | D14: 0.5g*8片/板*8板/盒 | E14: 盒 | F14: 聚氯乙烯固体药用硬片、药品包装用铝箔装 | G14: 天方药业有限公司 | H14: 4.35
A15: 10 | B15: 盐酸二甲双胍片 | C15: 片剂 | D15: 0.25g*60片/瓶 | E15: 瓶 | F15: 口服固体药用高密度聚乙烯瓶 | G15: 上海信谊天平药业有限公司 | H15: 1.8
A16: 11 | B16: 非布司他片 | C16: 片剂 | D16: 40mg*10片/板*1板/盒 | E16: 盒 | F16: 铝塑泡罩包装 | G16: 江苏恒瑞医药股份有限公司 | H16: 15.16
A17: 12 | B17: 非那雄胺片 | C17: 片剂 | D17: 1mg*7片/板*12板/盒 | E17: 盒 | F17: 聚氯乙烯固体药用硬片、药用铝箔装 | G17: 天方药业有限公司 | H17: 196
B18: 非那雄胺片 | C18: 片剂 | D18: 5mg*10片/板*3板/盒 | E18: 盒 | F18: 聚氯乙烯固体药用硬片、药用铝箔装 | G18: 天方药业有限公司 | H18: 10.5
A19: 13 | B19: 替格瑞洛片 | C19: 片剂 | D19: 90mg*15片/板*1板/盒 | E19: 盒 | F19: PVC/PVDC泡罩包装 | G19: 上海汇伦江苏药业有限公司 | H19: 9.45
A20: 14 | B20: 卡托普利片 | C20: 片剂 | D20: 25mg*100片/瓶 | E20: 瓶 | F20: 塑料瓶装 | G20: 山西振东安特生物制药有限公司 | H20: 2.18
A21: 15 | B21: 富马酸喹硫平片 | C21: 片剂 | D21: 25mg*14片/板*2板/盒 | E21: 盒 | F21: 聚氯乙烯固体药用硬片（PVC）/药品包装用铝箔 | G21: 湖南洞庭药业股份有限公司 | H21: 11
B22: 富马酸喹硫平片 | C22: 片剂 | D22: 0.1g*10片/板*3板/盒 | E22: 盒 | F22: 聚氯乙烯固体药用硬片（PVC）/药品包装用铝箔 | G22: 湖南洞庭药业股份有限公司 | H22: 33.96
B23: 富马酸喹硫平片 | C23: 片剂 | D23: 0.2g*8片/板*2板/盒 | E23: 盒 | F23: 聚氯乙烯固体药用硬片（PVC）/药品包装用铝箔 | G23: 湖南洞庭药业股份有限公司 | H23: 31.51
A24: 16 | B24: 盐酸美金刚片 | C24: 片剂 | D24: 10mg*7片/板*2板/盒 | E24: 盒 | F24: 聚氯乙烯固体药用硬片/药用铝箔 | G24: 湖南洞庭药业股份有限公司 | H24: 15.26
B25: 盐酸美金刚片 | C25: 片剂 | D25: 10mg*14片/板*2板/盒 | E25: 盒 | F25: 聚氯乙烯固体药用硬片/药用铝箔 | G25: 湖南洞庭药业股份有限公司 | H25: 29.76
A26: 17 | B26: 孟鲁司特钠咀嚼片 | C26: 片剂 | D26: 4mg*每板10片，每盒2板 | E26: 盒 | F26: 聚酰胺/铝/聚氯乙烯冷冲压成型固体药用复合硬片和药用铝箔包装 | G26: 北京福元医药股份有限公司 | H26: 12.83
B27: 孟鲁司特钠咀嚼片 | C27: 片剂 | D27: 4mg*每板10片，每盒1板 | E27: 盒 | F27: 聚酰胺/铝/聚氯乙烯冷冲压成型固体药用复合硬片和药用铝箔包装 | G27: 北京福元医药股份有限公司 | H27: 6.58
B28: 孟鲁司特钠咀嚼片 | C28: 片剂 | D28: 5mg*每板10片，每盒2板 | E28: 盒 | F28: 聚酰胺/铝/聚氯乙烯冷冲压成型固体药用复合硬片和药用铝箔包装 | G28: 北京福元医药股份有限公司 | H28: 15.22
B29: 孟鲁司特钠咀嚼片 | C29: 片剂 | D29: 5mg*每板10片，每盒1板 | E29: 盒 | F29: 聚酰胺/铝/聚氯乙烯冷冲压成型固体药用复合硬片和药用铝箔包装 | G29: 北京福元医药股份有限公司 | H29: 7.81
A30: 18 | B30: 孟鲁司特钠颗粒 | C30: 颗粒剂 | D30: 0.5g:4mg*7袋/盒 | E30: 盒 | F30: 铝塑复合袋包装 | G30: 苏州吴淞江制药有限公司 | H30: 11.43
A31: 19 | B31: 匹伐他汀钙分散片 | C31: 片剂 | D31: 2mg*28片/盒 | E31: 盒 | F31: 聚酰胺/铝/聚氯乙烯冷冲压成型固体药用复合硬片和药用铝箔 | G31: 浙江京新药业股份有限公司 | H31: 29.66
A32: 20 | B32: 琥珀酸普芦卡必利片 | C32: 片剂 | D32: 1mg*7片/板*1板/袋/盒 | E32: 盒 | F32: PVC铝塑包装，加入干燥剂，外套复合膜袋 | G32: 江苏豪森药业集团有限公司 | H32: 14.96
B33: 琥珀酸普芦卡必利片 | C33: 片剂 | D33: 2mg*7片/板*1板/袋/盒 | E33: 盒 | F33: PVC铝塑包装，加入干燥剂，外套复合膜袋 | G33: 江苏豪森药业集团有限公司 | H33: 25.43
B34: 琥珀酸普芦卡必利片 | C34: 片剂 | D34: 2mg*14片/板*1板/袋/盒 | E34: 盒 | F34: PVC铝塑包装，加入干燥剂，外套复合膜袋 | G34: 江苏豪森药业集团有限公司 | H34: 49.59
A35: 21 | B35: 盐酸曲美他嗪片 | C35: 片剂 | D35: 20mg*15片/板*2板/盒 | E35: 盒 | F35: 聚氯乙烯固体药用硬片和药用铝箔，外套聚酯/铝/聚乙烯药用复合膜 | G35: 瑞阳制药有限公司 | H35: 2.59
B36: 盐酸曲美他嗪片 | C36: 片剂 | D36: 20mg*15片/板*1板/盒 | E36: 盒 | F36: 聚氯乙烯固体药用硬片和药用铝箔，外套聚酯/铝/聚乙烯药用复合膜 | G36: 瑞阳制药有限公司 | H36: 1.33
B37: 盐酸曲美他嗪片 | C37: 片剂 | D37: 20mg*15片/板*4板/盒 | E37: 盒 | F37: 聚氯乙烯固体药用硬片和药用铝箔，外套聚酯/铝/聚乙烯药用复合膜 | G37: 瑞阳制药有限公司 | H37: 5.06
A38: 22 | B38: 塞来昔布胶囊 | C38: 胶囊剂 | D38: 0.2g*10粒/板*2板/盒 | E38: 盒 | F38: 药用铝箔/聚氯乙烯固体药用硬片泡罩包装 | G38: 四川国为制药有限公司 | H38: 11.33
A39: 23 | B39: 盐酸坦索罗辛缓释胶囊 | C39: 胶囊剂（缓释） | D39: 0.2mg*10粒/板*3板/盒 | E39: 盒 | F39: 聚酰胺/铝/聚氯乙烯冷冲压成型固体药用复合硬片和药用铝箔 | G39: 杭州康恩贝制药有限公司 | H39: 15.1
A40: 24 | B40: 碳酸氢钠片 | C40: 片剂 | D40: 0.5g*100片/瓶 | E40: 瓶 | F40: 塑料瓶 | G40: 福州海王福药制药有限公司 | H40: 11.97
A41: 25 | B41: 枸橼酸托法替布片 | C41: 片剂 | D41: 5mg*28片/瓶/盒 | E41: 盒 | F41: 口服固体药用高密度聚乙烯瓶包装 | G41: 齐鲁制药有限公司 | H41: 44.8
A42: 26 | B42: 维格列汀片 | C42: 片剂 | D42: 50mg*14片/板*2板/袋/盒 | E42: 盒 | F42: PVC/PVDC铝塑包装，外套复合膜袋 | G42: 江苏豪森药业集团有限公司 | H42: 21.82
B43: 维格列汀片 | C43: 片剂 | D43: 50mg*14片/板/袋/盒 | E43: 盒 | F43: PVC/PVDC铝塑包装，外套复合膜袋 | G43: 江苏豪森药业集团有限公司 | H43: 11.19
A44: 27 | B44: 维生素B6片 | C44: 片剂 | D44: 10mg*100片/瓶 | E44: 瓶 | F44: 口服固体药用高密度聚乙烯瓶装 | G44: 湖北广济药业股份有限公司 | H44: 7.87
B45: 维生素B6片 | C45: 片剂 | D45: 10mg*1000片/瓶 | E45: 瓶 | F45: 口服固体药用高密度聚乙烯瓶装 | G45: 湖北广济药业股份有限公司 | H45: 72.35
A46: 28 | B46: 盐酸西替利嗪片 | C46: 片剂 | D46: 10mg*30片/瓶*1瓶/盒 | E46: 盒 | F46: 口服固体药用高密度聚乙烯瓶及口服固体药用聚丙烯/低密度聚乙烯儿童安全防潮组合瓶盖包装 | G46: 扬子江药业集团有限公司 | H46: 5.3
A47: 29 | B47: 缬沙坦胶囊 | C47: 胶囊剂 | D47: 80mg*36粒/盒 | E47: 盒 | F47: 铝塑包装 | G47: 湖南千金湘江药业股份有限公司 | H47: 8.63
A48: 30 | B48: 盐酸乙胺丁醇片 | C48: 片剂 | D48: 0.25g*100片/瓶 | E48: 瓶 | F48: 口服固体药用高密度聚乙烯瓶 | G48: 广东华南药业集团有限公司 | H48: 11.57
A49: 31 | B49: 头孢地尼胶囊 | C49: 胶囊剂 | D49: 100mg*10粒/板*2板/盒 | E49: 盒 | F49: 聚氯乙烯/聚偏二氯乙烯固体药用复合硬片与药用铝箔泡罩包装 | G49: 江苏豪森药业集团有限公司 | H49: 14.33
B50: 头孢地尼胶囊 | C50: 胶囊剂 | D50: 100mg*10粒/板*1板/盒 | E50: 盒 | F50: 聚氯乙烯/聚偏二氯乙烯固体药用复合硬片与药用铝箔泡罩包装 | G50: 江苏豪森药业集团有限公司 | H50: 7.35
A51: 32 | B51: 头孢克洛胶囊 | C51: 胶囊剂 | D51: 0.25g*6粒/板*2板/盒 | E51: 盒 | F51: 聚氯乙烯固体药用硬片与药品包装用铝箔泡罩包装 | G51: 苏州中化药品工业有限公司 | H51: 6.9
B52: 头孢克洛胶囊 | C52: 胶囊剂 | D52: 0.5g*6粒/板*2板/盒 | E52: 盒 | F52: 聚氯乙烯固体药用硬片与药品包装用铝箔泡罩包装 | G52: 苏州中化药品工业有限公司 | H52: 11.73
A53: 33 | B53: 克拉霉素片 | C53: 片剂 | D53: 250mg*12片/板*3板/盒 | E53: 盒 | F53: 铝塑泡罩包装（聚氯乙烯/聚偏二氯乙烯固体药用复合硬片和药用铝箔） | G53: 山东新华制药股份有限公司 | H53: 15.43

Sheet Sheet1
F1: 碳酸氢钠片 | G1: 1 | H1: =VLOOKUP(F1,'Table 1'!B:C,2,FALSE) -> 片剂
F2: 多潘立酮片 | G2: 2 | H2: =VLOOKUP(F2,'Table 1'!B:C,2,FALSE) -> 片剂
F3: 琥珀酸普芦卡必利片 | G3: 3 | H3: =VLOOKUP(F3,'Table 1'!B:C,2,FALSE) -> 片剂
F4: 盐酸二甲双胍缓释片 | G4: 4 | H4: =VLOOKUP(F4,'Table 1'!B:C,2,FALSE) -> 缓释片
F5: 盐酸二甲双胍片 | G5: 5 | H5: =VLOOKUP(F5,'Table 1'!B:C,2,FALSE) -> 片剂
F6: 维格列汀片 | G6: 6 | H6: =VLOOKUP(F6,'Table 1'!B:C,2,FALSE) -> 片剂
F7: 维生素B6片 | G7: 7 | H7: =VLOOKUP(F7,'Table 1'!B:C,2,FALSE) -> 片剂
F8: 替格瑞洛 | G8: 8 | H8: =VLOOKUP(F8,'Table 1'!B:C,2,FALSE) -> #N/A
F9: 阿哌沙班片 | G9: 9 | H9: =VLOOKUP(F9,'Table 1'!B:C,2,FALSE) -> 片剂
F10: 盐酸曲美他嗪片 | G10: 10 | H10: =VLOOKUP(F10,'Table 1'!B:C,2,FALSE) -> 片剂
F11: 卡托普利片 | G11: 11 | H11: =VLOOKUP(F11,'Table 1'!B:C,2,FALSE) -> 片剂
F12: 缬沙坦胶囊 | G12: 12 | H12: =VLOOKUP(F12,'Table 1'!B:C,2,FALSE) -> 胶囊剂
... F33: 盐酸西替利嗪片 | G33: 33 | H33: =VLOOKUP(F33,'Table 1'!B:C,2,FALSE) -> 片剂
